BEGIN:VCALENDAR
VERSION:2.0
PRODID:-//Grace Lutheran Church Saskatoon - ECPv6.15.20//NONSGML v1.0//EN
CALSCALE:GREGORIAN
METHOD:PUBLISH
X-ORIGINAL-URL:https://gracelutheranchurch.ca
X-WR-CALDESC:Events for Grace Lutheran Church Saskatoon
REFRESH-INTERVAL;VALUE=DURATION:PT1H
X-Robots-Tag:noindex
X-PUBLISHED-TTL:PT1H
BEGIN:VTIMEZONE
TZID:America/Chicago
BEGIN:DAYLIGHT
TZOFFSETFROM:-0600
TZOFFSETTO:-0500
TZNAME:CDT
DTSTART:20250309T080000
END:DAYLIGHT
BEGIN:STANDARD
TZOFFSETFROM:-0500
TZOFFSETTO:-0600
TZNAME:CST
DTSTART:20251102T070000
END:STANDARD
BEGIN:DAYLIGHT
TZOFFSETFROM:-0600
TZOFFSETTO:-0500
TZNAME:CDT
DTSTART:20260308T080000
END:DAYLIGHT
BEGIN:STANDARD
TZOFFSETFROM:-0500
TZOFFSETTO:-0600
TZNAME:CST
DTSTART:20261101T070000
END:STANDARD
BEGIN:DAYLIGHT
TZOFFSETFROM:-0600
TZOFFSETTO:-0500
TZNAME:CDT
DTSTART:20270314T080000
END:DAYLIGHT
BEGIN:STANDARD
TZOFFSETFROM:-0500
TZOFFSETTO:-0600
TZNAME:CST
DTSTART:20271107T070000
END:STANDARD
END:VTIMEZONE
BEGIN:VEVENT
DTSTART;TZID=America/Chicago:20260215T100000
DTEND;TZID=America/Chicago:20260215T110000
DTSTAMP:20260423T173236
CREATED:20250902T172336Z
LAST-MODIFIED:20260211T014137Z
UID:14744-1771149600-1771153200@gracelutheranchurch.ca
SUMMARY:Sunday service - traditional style
DESCRIPTION:Join us for a traditional style Sunday service!
URL:https://gracelutheranchurch.ca/event/sunday-service-traditional-style-14/
LOCATION:Grace Lutheran Church
END:VEVENT
BEGIN:VEVENT
DTSTART;TZID=America/Chicago:20260218T190000
DTEND;TZID=America/Chicago:20260218T203000
DTSTAMP:20260423T173236
CREATED:20260211T014706Z
LAST-MODIFIED:20260211T014706Z
UID:14753-1771441200-1771446600@gracelutheranchurch.ca
SUMMARY:Ash Wednesday
DESCRIPTION:Join us for our Ash Wednesday service!
URL:https://gracelutheranchurch.ca/event/ash-wednesday/
END:VEVENT
BEGIN:VEVENT
DTSTART;TZID=America/Chicago:20260222T100000
DTEND;TZID=America/Chicago:20260222T110000
DTSTAMP:20260423T173236
CREATED:20250902T172254Z
LAST-MODIFIED:20260211T014410Z
UID:14742-1771754400-1771758000@gracelutheranchurch.ca
SUMMARY:Sunday service - traditional style with communion
DESCRIPTION:Join us for a traditional style Sunday service with communion!
URL:https://gracelutheranchurch.ca/event/sunday-service-traditional-style-with-communion-9/
LOCATION:Grace Lutheran Church
END:VEVENT
BEGIN:VEVENT
DTSTART;TZID=America/Chicago:20260301T100000
DTEND;TZID=America/Chicago:20260301T110000
DTSTAMP:20260423T173236
CREATED:20250902T172148Z
LAST-MODIFIED:20260211T014446Z
UID:14740-1772359200-1772362800@gracelutheranchurch.ca
SUMMARY:Sunday service - praise & worship style
DESCRIPTION:Join us for a praise & worship style Sunday service!
URL:https://gracelutheranchurch.ca/event/sunday-service-praise-worship-style/
LOCATION:Grace Lutheran Church
END:VEVENT
BEGIN:VEVENT
DTSTART;TZID=America/Chicago:20260308T100000
DTEND;TZID=America/Chicago:20260308T110000
DTSTAMP:20260423T173236
CREATED:20250902T171919Z
LAST-MODIFIED:20260211T014532Z
UID:14734-1772964000-1772967600@gracelutheranchurch.ca
SUMMARY:Sunday service - traditional style with communion
DESCRIPTION:Join us for a traditional style Sunday service with communion!
URL:https://gracelutheranchurch.ca/event/sunday-service-traditional-style-with-communion-7/
LOCATION:Grace Lutheran Church
END:VEVENT
BEGIN:VEVENT
DTSTART;TZID=America/Chicago:20260315T100000
DTEND;TZID=America/Chicago:20260315T110000
DTSTAMP:20260423T173236
CREATED:20250902T172002Z
LAST-MODIFIED:20260211T014605Z
UID:14736-1773568800-1773572400@gracelutheranchurch.ca
SUMMARY:Sunday service - traditional style
DESCRIPTION:Join us for a traditional style Sunday service!
URL:https://gracelutheranchurch.ca/event/sunday-service-traditional-style-13/
LOCATION:Grace Lutheran Church
END:VEVENT
BEGIN:VEVENT
DTSTART;TZID=America/Chicago:20260322T100000
DTEND;TZID=America/Chicago:20260322T110000
DTSTAMP:20260423T173236
CREATED:20250902T172057Z
LAST-MODIFIED:20260211T014639Z
UID:14738-1774173600-1774177200@gracelutheranchurch.ca
SUMMARY:Sunday service - traditional style with communion
DESCRIPTION:Join us for a traditional style Sunday service with communion!
URL:https://gracelutheranchurch.ca/event/sunday-service-traditional-style-with-communion-8/
LOCATION:Grace Lutheran Church
END:VEVENT
BEGIN:VEVENT
DTSTART;TZID=America/Chicago:20260329T100000
DTEND;TZID=America/Chicago:20260329T110000
DTSTAMP:20260423T173236
CREATED:20250902T171831Z
LAST-MODIFIED:20260211T015054Z
UID:14732-1774778400-1774782000@gracelutheranchurch.ca
SUMMARY:Sunday service - traditional style
DESCRIPTION:Join us for a traditional style Sunday service!
URL:https://gracelutheranchurch.ca/event/sunday-service-traditional-style-12/
LOCATION:Grace Lutheran Church
END:VEVENT
BEGIN:VEVENT
DTSTART;TZID=America/Chicago:20260402T190000
DTEND;TZID=America/Chicago:20260402T203000
DTSTAMP:20260423T173236
CREATED:20260211T015257Z
LAST-MODIFIED:20260211T015257Z
UID:14756-1775156400-1775161800@gracelutheranchurch.ca
SUMMARY:Maundy Thursday
DESCRIPTION:Join St. Paul’s for their Maundy Thursday service.
URL:https://gracelutheranchurch.ca/event/maundy-thursday/
LOCATION:St. Paul\, 627 Taylor St E\, Saskatoon\, SK\, S7H 1V9\, Canada
END:VEVENT
BEGIN:VEVENT
DTSTART;TZID=America/Chicago:20260403T190000
DTEND;TZID=America/Chicago:20260403T203000
DTSTAMP:20260423T173236
CREATED:20260211T015440Z
LAST-MODIFIED:20260211T015440Z
UID:14758-1775242800-1775248200@gracelutheranchurch.ca
SUMMARY:Good Friday
DESCRIPTION:Join us for our Good Friday service.
URL:https://gracelutheranchurch.ca/event/good-friday/
LOCATION:Grace Lutheran Church
END:VEVENT
BEGIN:VEVENT
DTSTART;TZID=America/Chicago:20260405T100000
DTEND;TZID=America/Chicago:20260405T113000
DTSTAMP:20260423T173236
CREATED:20260211T015644Z
LAST-MODIFIED:20260211T015644Z
UID:14760-1775383200-1775388600@gracelutheranchurch.ca
SUMMARY:Easter Sunday
DESCRIPTION:Join us for our Easter Sunday service!
URL:https://gracelutheranchurch.ca/event/easter-sunday/
LOCATION:Grace Lutheran Church
END:VEVENT
BEGIN:VEVENT
DTSTART;TZID=America/Chicago:20260412T100000
DTEND;TZID=America/Chicago:20260412T110000
DTSTAMP:20260423T173236
CREATED:20260211T015935Z
LAST-MODIFIED:20260211T015935Z
UID:14763-1775988000-1775991600@gracelutheranchurch.ca
SUMMARY:Sunday service - praise and worship style
DESCRIPTION:Join us for a praise and worship styled service.
URL:https://gracelutheranchurch.ca/event/sunday-service-praise-and-worship-style/
LOCATION:Grace Lutheran Church
END:VEVENT
BEGIN:VEVENT
DTSTART;TZID=America/Chicago:20260419T100000
DTEND;TZID=America/Chicago:20260419T110000
DTSTAMP:20260423T173236
CREATED:20250902T171539Z
LAST-MODIFIED:20260211T020022Z
UID:14726-1776592800-1776596400@gracelutheranchurch.ca
SUMMARY:Sunday service - traditional style with communion
DESCRIPTION:Join us for a traditional style Sunday service with communion!
URL:https://gracelutheranchurch.ca/event/sunday-service-traditional-style-with-communion-4/
LOCATION:Grace Lutheran Church
END:VEVENT
BEGIN:VEVENT
DTSTART;TZID=America/Chicago:20260426T100000
DTEND;TZID=America/Chicago:20260426T110000
DTSTAMP:20260423T173236
CREATED:20250902T171457Z
LAST-MODIFIED:20260211T020054Z
UID:14724-1777197600-1777201200@gracelutheranchurch.ca
SUMMARY:Sunday service - traditional style
DESCRIPTION:Join us for a traditional style Sunday service!
URL:https://gracelutheranchurch.ca/event/sunday-service-traditional-style-10/
LOCATION:Grace Lutheran Church
END:VEVENT
BEGIN:VEVENT
DTSTART;TZID=America/Chicago:20260503T100000
DTEND;TZID=America/Chicago:20260503T110000
DTSTAMP:20260423T173236
CREATED:20250902T171735Z
LAST-MODIFIED:20260211T020153Z
UID:14730-1777802400-1777806000@gracelutheranchurch.ca
SUMMARY:Sunday service - praise & worship style with communion
DESCRIPTION:Join us for a praise & worship style Sunday service with communion!
URL:https://gracelutheranchurch.ca/event/sunday-service-praise-worship-style-with-communion-3/
LOCATION:Grace Lutheran Church
END:VEVENT
BEGIN:VEVENT
DTSTART;TZID=America/Chicago:20260510T100000
DTEND;TZID=America/Chicago:20260510T110000
DTSTAMP:20260423T173236
CREATED:20250902T171634Z
LAST-MODIFIED:20260211T020244Z
UID:14728-1778407200-1778410800@gracelutheranchurch.ca
SUMMARY:Sunday service - traditional style
DESCRIPTION:Join us for a traditional style Sunday service!
URL:https://gracelutheranchurch.ca/event/sunday-service-traditional-style-11/
LOCATION:Grace Lutheran Church
END:VEVENT
BEGIN:VEVENT
DTSTART;TZID=America/Chicago:20260517T100000
DTEND;TZID=America/Chicago:20260517T110000
DTSTAMP:20260423T173236
CREATED:20260211T020356Z
LAST-MODIFIED:20260211T020356Z
UID:14765-1779012000-1779015600@gracelutheranchurch.ca
SUMMARY:Sunday service - traditional style
DESCRIPTION:Join us for a traditional style Sunday service.
URL:https://gracelutheranchurch.ca/event/sunday-service-traditional-style/
END:VEVENT
BEGIN:VEVENT
DTSTART;TZID=America/Chicago:20260524T100000
DTEND;TZID=America/Chicago:20260524T110000
DTSTAMP:20260423T173236
CREATED:20260211T020540Z
LAST-MODIFIED:20260211T020540Z
UID:14767-1779616800-1779620400@gracelutheranchurch.ca
SUMMARY:Sunday service - traditional style
DESCRIPTION:Join us for a traditional style Sunday service.
URL:https://gracelutheranchurch.ca/event/sunday-service-traditional-style-2/
END:VEVENT
BEGIN:VEVENT
DTSTART;TZID=America/Chicago:20260531T100000
DTEND;TZID=America/Chicago:20260531T110000
DTSTAMP:20260423T173236
CREATED:20260211T020712Z
LAST-MODIFIED:20260211T020712Z
UID:14769-1780221600-1780225200@gracelutheranchurch.ca
SUMMARY:Sunday service - traditional style with communion
DESCRIPTION:Join us for a traditional style service with communion.
URL:https://gracelutheranchurch.ca/event/sunday-service-traditional-style-with-communion/
END:VEVENT
END:VCALENDAR